BEGIN:VCALENDAR
VERSION:2.0
PRODID:-//OrangeTeam LUG//NONSGML kigkonsult.se iCalcreator 2.41.92//
CALSCALE:GREGORIAN
METHOD:PUBLISH
UID:64346665-6135-4538-b361-353563343464
X-WR-CALNAME:iCagenda
X-WR-CALDESC:Event Management Extension for Joomla!
X-WR-RELCALID:3E26604A-50F4-4449-8B3E-E4F4932D05B5
X-WR-TIMEZONE:Europe/Rome
BEGIN:VTIMEZONE
TZID:Europe/Rome
TZUNTIL:20241027T010000Z
BEGIN:STANDARD
TZNAME:CET
DTSTART:20211031T030000
TZOFFSETFROM:+0200
TZOFFSETTO:+0100
RDATE:20221030T030000
RDATE:20231029T030000
END:STANDARD
BEGIN:DAYLIGHT
TZNAME:CEST
DTSTART:20220327T020000
TZOFFSETFROM:+0100
TZOFFSETTO:+0200
RDATE:20230326T020000
RDATE:20240331T020000
END:DAYLIGHT
END:VTIMEZONE
BEGIN:VEVENT
UID:62393565-3439-4531-b336-633865646638
DTSTAMP:20260421T102222Z
CATEGORIES:Eventi 2022
CLASS:PUBLIC
DESCRIPTION;ALTREP="CID:<FFFF__=0ABBE548DFE235B58f9e8a93d@coffeebean.com>":
 Nuovo appuntamento da non perdere per grandi e piccoli.\nSabato 22 OTTOBRE
  2022\, dalle ore 16:00\, al Museo del PALAZZO COMUNALE di San Miniato (Pi
 sa)\, oltre alla visita guidata\, ci sarà l’esposizione della ROCCA in mat
 toncini LEGO® realizzata da Alessio Carmignani\, un’opera di quasi 2000 ma
 ttoncini che riproduce in miniatura l’iconica torre simbolo della città.\n
 \nInoltre per l’occasione ci sarà il LABORATORIO LEGO®\, dove tutti potran
 no giocare e costruire le loro opere coi famosi mattoncini.\nL’evento è or
 ganizzato dai MUSEI CIVICI di San Miniato in collaborazione con il gruppo 
 ORANGE TEAM LUG.\n\nLa Rocca poi rimarrà in esposizione al museo fino al 2
 7 novembre 2022.\n\n&nbsp\;
DTSTART:20221022T140000Z
DTEND:20221022T180000Z
GEO:00;0
LOCATION:Museo CIVICO SAN MINIATO PISA
ORGANIZER:
SEQUENCE:1
SUMMARY:La Rocca in mattoncini LEGO a San Miniato PISA
TRANSP:OPAQUE
URL:https://www.orangeteamlug.it/eventi-partecipazioni/2022/la-rocca-in-mat
 toncini-lego-a-san-miniato-pisa?layout=vcal
END:VEVENT
END:VCALENDAR
