BEGIN:VCALENDAR
VERSION:2.0
PRODID:-//OrangeTeam LUG//NONSGML kigkonsult.se iCalcreator 2.41.92//
CALSCALE:GREGORIAN
METHOD:PUBLISH
UID:37363939-3736-4636-a464-653362383939
X-WR-CALNAME:iCagenda
X-WR-CALDESC:Event Management Extension for Joomla!
X-WR-RELCALID:3E26604A-50F4-4449-8B3E-E4F4932D05B5
X-WR-TIMEZONE:Europe/Rome
BEGIN:VTIMEZONE
TZID:Europe/Rome
TZUNTIL:20250330T010000Z
BEGIN:STANDARD
TZNAME:CET
DTSTART:20221030T030000
TZOFFSETFROM:+0200
TZOFFSETTO:+0100
RDATE:20231029T030000
RDATE:20241027T030000
END:STANDARD
BEGIN:DAYLIGHT
TZNAME:CEST
DTSTART:20230326T020000
TZOFFSETFROM:+0100
TZOFFSETTO:+0200
RDATE:20240331T020000
END:DAYLIGHT
END:VTIMEZONE
BEGIN:VEVENT
UID:32623862-3065-4161-b038-613334373766
DTSTAMP:20260421T104733Z
CATEGORIES:Eventi 2023
CLASS:PUBLIC
DESCRIPTION;ALTREP="CID:<FFFF__=0ABBE548DFE235B58f9e8a93d@coffeebean.com>":
 \nEsposizione di opere in mattoncini LEGO® al GANZO COMICS\n\n&nbsp\;\n7 -
  8 - 9 Luglio 2023\nStazione Leopolda Pisa\n{gallery}https://www.flickr.co
 m/photos/156282721@N07/albums/72177720309978560{/gallery}\n CLICCA QUI PER
  ALBUM COMPLETO\n&nbsp\;\n\n\n&nbsp\;\n&nbsp\;\nGanzi in tutti gli univers
 i possibili!\n\n\nMATTONCINI LEGO®\nCOSPLAY\nFUMETTI\nK-POP\nGIOCHI DA TAV
 OLO\nGIOCHI DI RUOLO\nVIDEOGAMES\nGADGET\nFOOD TRUCK\n\nI biglietti si com
 prano direttamente alla manifestazione\nIngresso: 6\,00 euro\n5\,00 euro p
 er i minori di 18 anni\nIngresso gratuito fino a 8 anni\n&nbsp\;\n\nDOVE L
 a Stazione Leopolda si trova a Pisa\, in Piazza Guerrazzi a pochi minuti d
 alla Stazione Ferroviaria\, dall’Aeroporto Galileo Galilei e dalle uscite 
 (Pisa Centro) della Superstrada FI-PI-LI e delle Autostrade A 12 (Genova –
  Livorno) e A 11 (Firenze – Mare). IN TRENO Considerando la particolare vi
 cinanza della stazione ferroviaria alla Leopolda è possibile scegliere il 
 treno\, un mezzo sicuro\, ecologico\, al riparo dal traffico cittadino. IN
  AUTO Per raggiungere la Leopolda in auto è possibile prendere la Superstr
 ada FI-PI-LI\, uscire a Pisa Centro e seguire le indicazioni per il centro
  città. Una volta superato il ponte sulla ferrovia\, girare a sinistra e p
 oi subito a destra in Via Fratti fino a Piazza Guerrazzi. PARCHEGGIO Per p
 osteggiare agevolmente la macchina è possibile utilizzare i nuovi parchegg
 i Pisamover e raggiungere la Leopolda dopo un breve tragitto a piedi. Al p
 archeggio Aurelia si accede dall’uscita Pisa Ovest – Darsena Pisana della 
 superstrada FI-PI-LI (l’ingresso è collocato in corrispondenza della rotat
 oria sulla Strada Aurelia verso Pisa). Tariffe giornaliere a partire da 2\
 ,50 Euro www.pisa-mover.com
DTSTART:20230707T080000Z
DTEND:20230709T170000Z
GEO:00;0
LOCATION:
ORGANIZER:
SEQUENCE:1
SUMMARY:Ganzo Comics 2023
TRANSP:OPAQUE
URL:https://www.orangeteamlug.it/eventi-partecipazioni/2023/ganzo-comics-20
 23?layout=vcal
END:VEVENT
END:VCALENDAR
