BEGIN:VCALENDAR
VERSION:2.0
PRODID:-//OrangeTeam LUG//NONSGML kigkonsult.se iCalcreator 2.41.92//
CALSCALE:GREGORIAN
METHOD:PUBLISH
UID:33653138-3138-4431-b838-643139316465
X-WR-CALNAME:iCagenda
X-WR-CALDESC:Event Management Extension for Joomla!
X-WR-RELCALID:3E26604A-50F4-4449-8B3E-E4F4932D05B5
X-WR-TIMEZONE:Europe/Rome
BEGIN:VTIMEZONE
TZID:Europe/Rome
TZUNTIL:20241027T010000Z
BEGIN:STANDARD
TZNAME:CET
DTSTART:20221030T030000
TZOFFSETFROM:+0200
TZOFFSETTO:+0100
RDATE:20231029T030000
END:STANDARD
BEGIN:DAYLIGHT
TZNAME:CEST
DTSTART:20220327T020000
TZOFFSETFROM:+0100
TZOFFSETTO:+0200
RDATE:20230326T020000
RDATE:20240331T020000
END:DAYLIGHT
END:VTIMEZONE
BEGIN:VEVENT
UID:64303831-3864-4032-b439-633765343035
DTSTAMP:20260421T103621Z
CATEGORIES:Eventi Segnalati
CLASS:PUBLIC
DESCRIPTION;ALTREP="CID:<FFFF__=0ABBE548DFE235B58f9e8a93d@coffeebean.com>":
 \nSAN MAURO BRICK SHOW\n\n\n18 e 19 Febbraio 2023\n\n\nPalaburgo in via Lu
 igi Burgo\, San Mauro Torinese (TO)
DTSTART:20230218T080000Z
DTEND:20230219T180000Z
GEO:00;0
LOCATION:
ORGANIZER:
SEQUENCE:1
SUMMARY:SAN MAURO BRICK SHOW 2023
TRANSP:OPAQUE
URL:https://www.orangeteamlug.it/eventi-partecipazioni/2023/san-mauro-brick
 -show-2023?layout=vcal
END:VEVENT
END:VCALENDAR
