BEGIN:VCALENDAR
VERSION:2.0
PRODID:-//OrangeTeam LUG//NONSGML kigkonsult.se iCalcreator 2.41.92//
CALSCALE:GREGORIAN
METHOD:PUBLISH
UID:61626330-6339-4661-b236-633334313738
X-WR-CALNAME:iCagenda
X-WR-CALDESC:Event Management Extension for Joomla!
X-WR-RELCALID:3E26604A-50F4-4449-8B3E-E4F4932D05B5
X-WR-TIMEZONE:Europe/Rome
BEGIN:VTIMEZONE
TZID:Europe/Rome
TZUNTIL:20271031T010000Z
BEGIN:STANDARD
TZNAME:CET
DTSTART:20251026T030000
TZOFFSETFROM:+0200
TZOFFSETTO:+0100
RDATE:20261025T030000
END:STANDARD
BEGIN:DAYLIGHT
TZNAME:CEST
DTSTART:20250330T020000
TZOFFSETFROM:+0100
TZOFFSETTO:+0200
RDATE:20260329T020000
RDATE:20270328T020000
END:DAYLIGHT
END:VTIMEZONE
BEGIN:VEVENT
UID:63303937-3762-4263-b861-303030323037
DTSTAMP:20260421T184530Z
CATEGORIES:OTLUG Partecipa
CLASS:PUBLIC
DESCRIPTION;ALTREP="CID:<FFFF__=0ABBE548DFE235B58f9e8a93d@coffeebean.com>":
 I LOVE LUCCA COMICS &amp\; GAMES\nL’atteso film-evento che celebra la stra
 ordinaria community e svela il dietro le quinte di Lucca Comics &amp\; Gam
 es\, la più grande manifestazione dedicata alla cultura pop e una delle pi
 ù amate al mondo\, arriva nelle sale italiane il 10\, 11 e 12 novembre in 
 oltre 300 cinema\, distribuito da I Wonder Pictures in collaborazione con 
 Unipol Biografilm Collection.\nDopo la prima al Festival del Cinema di Rom
 a\, il film porta sul grande schermo la magia\, le emozioni e l’energia di
  un evento unico\, capace ogni anno di riunire migliaia di appassionati da
  tutto il pianeta.\nDue appuntamenti speciali completeranno il tour il 13 
 e 14 novembre a Salerno e Napoli.\nA introdurre una serie di proiezioni sp
 eciali in programma in tutta Italia\, sono attesi alcuni dei suoi protagon
 isti: dal regista e sceneggiatore del film Manlio Castagna alla scrittrice
  best-seller Licia Troisi\, dal regista Gabriele Mainetti all’illustratore
  Paolo Barbieri e al fumettista Simone Bianchi\, passando per l’autore Pie
 rdomenico Baccalario. Alle proiezioni non mancheranno cosplay che porteran
 no nelle sale tutta l’energia e le emozioni che da sempre caratterizzano L
 ucca Comics &amp\; Games\nLISTA DEI CINEMA D'ITALIA e ORARI PROIEZIONEhttp
 s://iwonderpictures.it/iloveluccacomicsgames/\n&nbsp\;\nLa storia e i prot
 agonistiCon più di 300mila visitatori ogni anno\, oltre 900 ospiti e 600 e
 spositori\, Lucca Comics &amp\; Games è tra le manifestazioni dedicate all
 a cultura pop più grandi del mondo.\nMa è anche molto di più: un’esperienz
 a trasformativa\, un punto di incontro capace di portare migliaia di perso
 ne a vivere un’esplosione di gioia e creatività. Un luogo che genera felic
 ità.\nAttraverso le voci di autori\, editori e ospiti prestigiosi (tra cui
  il regista Gabriele Mainetti\, gli scrittori di best-seller R.L. Stine e 
 Licia Troisi\, il rapper Frankie hi-nrg mc\, i fumettisti Pera Toons\, Sio
 \, Fumettibrutti\, Yoshitaka Amano\, Roberto Recchioni…) e l’incontro con 
 alcuni dei visitatori che ogni anno vivono Lucca come una seconda casa\, i
 l regista e scrittore Manlio Castagna mostra la community\, i valori e l’e
 sperienza di questo evento unico nel suo genere.\nOgni storia\, personale 
 e intima\, diventa tassello di un viaggio universale\, la linea di un arab
 esco che descrive un mondo di accoglienza e gentilezza\, una comunità unit
 a dalle stesse passioni e dalla voglia di stare insieme.\n&nbsp\;\n*Info t
 ratte dal sito ufficiale e dalla newsletter\n&nbsp\;
DTSTART:20251110T180000Z
DTEND:20251110T180000Z
GEO:00;0
LOCATION:
ORGANIZER:
SEQUENCE:1
SUMMARY:I LOVE LUCCA COMICS & GAMES
TRANSP:OPAQUE
URL:https://www.orangeteamlug.it/eventi-partecipazioni/eventi-2025/i-love-l
 ucca-comics-games/2025-11-10-19-00?layout=vcal
END:VEVENT
END:VCALENDAR
