BEGIN:VCALENDAR
VERSION:2.0
PRODID:-//OrangeTeam LUG//NONSGML kigkonsult.se iCalcreator 2.41.92//
CALSCALE:GREGORIAN
METHOD:PUBLISH
UID:36323933-6539-4863-b264-353265656466
X-WR-CALNAME:iCagenda
X-WR-CALDESC:Event Management Extension for Joomla!
X-WR-RELCALID:3E26604A-50F4-4449-8B3E-E4F4932D05B5
X-WR-TIMEZONE:Europe/Rome
BEGIN:VTIMEZONE
TZID:Europe/Rome
TZUNTIL:20270328T010000Z
BEGIN:STANDARD
TZNAME:CET
DTSTART:20241027T030000
TZOFFSETFROM:+0200
TZOFFSETTO:+0100
RDATE:20251026T030000
RDATE:20261025T030000
END:STANDARD
BEGIN:DAYLIGHT
TZNAME:CEST
DTSTART:20250330T020000
TZOFFSETFROM:+0100
TZOFFSETTO:+0200
RDATE:20260329T020000
END:DAYLIGHT
END:VTIMEZONE
BEGIN:VEVENT
UID:39373939-3737-4831-a433-666161623763
DTSTAMP:20260421T103837Z
CATEGORIES:Eventi Segnalati
CLASS:PUBLIC
DESCRIPTION;ALTREP="CID:<FFFF__=0ABBE548DFE235B58f9e8a93d@coffeebean.com>":
 Mostra mercato con esposizione di creazione originali eseguite in mattonci
 ni LEGO a cura di ROMABRICK\nLATINA 2025 QUINDICESIMA EDIZIONE\nINGRESSO G
 RATUITO\n1-2 giugno\nmattina 10/13pomeriggio 15/19\nMuseo storico Piana de
 lle ORME\nStrada Migliara 43 1/2\, 29 LATINA LT\nINFO: info@romabrick.it
DTSTART:20250601T080000Z
DTEND:20250602T170000Z
GEO:00;0
LOCATION:
ORGANIZER:
SEQUENCE:1
SUMMARY:LATINA 2025
TRANSP:OPAQUE
URL:https://www.orangeteamlug.it/eventi-partecipazioni/eventi-2025/latina-2
 025?layout=vcal
END:VEVENT
END:VCALENDAR
