BEGIN:VCALENDAR
VERSION:2.0
PRODID:-//OrangeTeam LUG//NONSGML kigkonsult.se iCalcreator 2.41.92//
CALSCALE:GREGORIAN
METHOD:PUBLISH
UID:64643565-6334-4536-a534-373064316231
X-WR-CALNAME:iCagenda
X-WR-CALDESC:Event Management Extension for Joomla!
X-WR-RELCALID:3E26604A-50F4-4449-8B3E-E4F4932D05B5
X-WR-TIMEZONE:Europe/Rome
BEGIN:VTIMEZONE
TZID:Europe/Rome
TZUNTIL:20271031T010000Z
BEGIN:STANDARD
TZNAME:CET
DTSTART:20251026T030000
TZOFFSETFROM:+0200
TZOFFSETTO:+0100
RDATE:20261025T030000
END:STANDARD
BEGIN:DAYLIGHT
TZNAME:CEST
DTSTART:20250330T020000
TZOFFSETFROM:+0100
TZOFFSETTO:+0200
RDATE:20260329T020000
RDATE:20270328T020000
END:DAYLIGHT
END:VTIMEZONE
BEGIN:VEVENT
UID:63646162-3632-4136-a539-373361623561
DTSTAMP:20260421T115457Z
CATEGORIES:Eventi 2025
CLASS:PUBLIC
DESCRIPTION;ALTREP="CID:<FFFF__=0ABBE548DFE235B58f9e8a93d@coffeebean.com>":
 OTLUG A LUCCA COMICS &amp\; GAMES 2025 FRENCH KISS\nFESTIVAL 29.10 - 02.11
  | MOSTRE 18.10 - 02.11 | CAMPFIRE 18.10 - 02.11&nbsp\;\n CLICCA QUI o SUL
 LA FOTO PER IL PROGRAMMA&nbsp\;
DTSTART:20251029T080000Z
DTEND:20251102T180000Z
GEO:+43.846241;+10.503922
LOCATION:LUCCA
ORGANIZER:
SEQUENCE:1
SUMMARY:LUCCA COMICS & GAMES 2025
TRANSP:OPAQUE
URL:https://www.orangeteamlug.it/eventi-partecipazioni/eventi-2025/lucca-co
 mics-games-2025?layout=vcal
END:VEVENT
END:VCALENDAR
