BEGIN:VCALENDAR
VERSION:2.0
PRODID:-//OrangeTeam LUG//NONSGML kigkonsult.se iCalcreator 2.41.92//
CALSCALE:GREGORIAN
METHOD:PUBLISH
UID:37316639-3932-4162-a365-623939663362
X-WR-CALNAME:iCagenda
X-WR-CALDESC:Event Management Extension for Joomla!
X-WR-RELCALID:3E26604A-50F4-4449-8B3E-E4F4932D05B5
X-WR-TIMEZONE:Europe/Rome
BEGIN:VTIMEZONE
TZID:Europe/Rome
TZUNTIL:20271031T010000Z
BEGIN:STANDARD
TZNAME:CET
DTSTART:20251026T030000
TZOFFSETFROM:+0200
TZOFFSETTO:+0100
RDATE:20261025T030000
END:STANDARD
BEGIN:DAYLIGHT
TZNAME:CEST
DTSTART:20250330T020000
TZOFFSETFROM:+0100
TZOFFSETTO:+0200
RDATE:20260329T020000
RDATE:20270328T020000
END:DAYLIGHT
END:VTIMEZONE
BEGIN:VEVENT
UID:35343538-6630-4237-b333-393461383862
DTSTAMP:20260421T102407Z
CATEGORIES:Eventi 2025
CLASS:PUBLIC
DESCRIPTION;ALTREP="CID:<FFFF__=0ABBE548DFE235B58f9e8a93d@coffeebean.com>":
 Mostra per il 19° Concorso Presepi “Notte Santa” Scuola Paritaria S. Teres
 a CIF Cascina PISA\nPartecipazione alla 19 MOSTRA dei PRESEPI 'NOTTE SANTA
 ' presso la scuola paritario S. Teresa CIF Corso Matteotti\, 9 Cascina (PI
 SA)La mostra sarà allestita nei locali della Scuola da domenica 23 dicembr
 e fino al 6 gennaio e sarà visitabile dalle ore 15.30 alle ore 19.00. La p
 remiazione avverrà sabato 11 gennaio nell'Oratorio di San Giovanni (adiace
 nte alla Scuola) alle ore 16.00\nL' iniziativa rientra in Terre di Presepi
  (terredipresepi.blogspot.com) ed è 'magione' per accogliere il pellegrino
  presepista.'Il presepista pellegrino è colui che durante il periodo di Na
 tale o durante l'anno\, visita i presepi e ricerca\, attraverso il presepe
 \, per mezzo dell'opera degli artisti presepisti\, il volto di Dio fatto u
 omo nella Natività.Il presepista pellegrino di oggi percorre le tappe dell
 e strade con qualunque mezzo di trasporto\, camminando\, in bici\, in moto
 \, in auto o in treno e come un pellegrino\, certifica le tappe del suo pe
 rcorso sulla sua Credenziale.L'esperienza del presepista pellegrino è rivo
 lta a tutti\, senza distinzione di età. E' adatta e piace ai bambini e ai 
 grandi\; a chi comunemente si sposta ed è in viaggio\, come per coloro che
  la domenica o durante le festività vogliono passare una giornata diversa 
 dal solito. Oppure a chi rimane affascinato dalle scene\, dai movimenti\, 
 dalle ambientazioni che la realizzazione del presepe porta con sé\, al par
 i di quelle che sono le ricostruzioni storiche dei presepi viventi.'\n&nbs
 p\;\n\n\n
DTSTART:20251223T142900Z
DTEND:20260106T142900Z
GEO:+43.676319;+10.549996
LOCATION:Corso Matteotti\, 9 Cascina PISA
ORGANIZER;CN=:mailto:scuolasantateresa1@gmail.com
SEQUENCE:1
SUMMARY:Mostra per il 19° Concorso Presepi “Notte Santa” Scuola Paritaria S
 . Teresa CIF Cascina PISA
TRANSP:OPAQUE
URL:https://www.orangeteamlug.it/eventi-partecipazioni/eventi-2025/mostra-p
 er-il-19-concorso-presepi-notte-santa-scuola-paritaria-s-teresa-cif-cascin
 a-pisa?layout=vcal
END:VEVENT
END:VCALENDAR
