BEGIN:VCALENDAR
VERSION:2.0
PRODID:-//OrangeTeam LUG//NONSGML kigkonsult.se iCalcreator 2.41.92//
CALSCALE:GREGORIAN
METHOD:PUBLISH
UID:32333863-3732-4065-b564-623465663331
X-WR-CALNAME:iCagenda
X-WR-CALDESC:Event Management Extension for Joomla!
X-WR-RELCALID:3E26604A-50F4-4449-8B3E-E4F4932D05B5
X-WR-TIMEZONE:Europe/Rome
BEGIN:VTIMEZONE
TZID:Europe/Rome
TZUNTIL:20271031T010000Z
BEGIN:STANDARD
TZNAME:CET
DTSTART:20251026T030000
TZOFFSETFROM:+0200
TZOFFSETTO:+0100
RDATE:20261025T030000
END:STANDARD
BEGIN:DAYLIGHT
TZNAME:CEST
DTSTART:20250330T020000
TZOFFSETFROM:+0100
TZOFFSETTO:+0200
RDATE:20260329T020000
RDATE:20270328T020000
END:DAYLIGHT
END:VTIMEZONE
BEGIN:VEVENT
UID:33383136-3464-4132-b262-333336383730
DTSTAMP:20260421T115626Z
CATEGORIES:Eventi 2025
CLASS:PUBLIC
DESCRIPTION;ALTREP="CID:<FFFF__=0ABBE548DFE235B58f9e8a93d@coffeebean.com>":
 Tuttogiochi 2025\npresso i Macelli Certaldo giochi\, esposizione\, laborat
 ori ludici.\nINGRESSO GRATUITOSABATO 2915-19\nDOMENICA 3010-19
DTSTART:20251129T140000Z
DTEND:20251130T180000Z
GEO:+43.546169;+11.045778
LOCATION:Piazza dei Macelli 9
ORGANIZER;CN=:mailto:info@prolococertaldo.it
SEQUENCE:1
SUMMARY:Tuttogiochi 2025
TRANSP:OPAQUE
URL:https://www.orangeteamlug.it/eventi-partecipazioni/eventi-2025/tuttogio
 chi-2025?layout=vcal
END:VEVENT
END:VCALENDAR
