BEGIN:VCALENDAR
VERSION:2.0
PRODID:-//OrangeTeam LUG//NONSGML kigkonsult.se iCalcreator 2.41.92//
CALSCALE:GREGORIAN
METHOD:PUBLISH
UID:61303466-3635-4165-a666-383061613861
X-WR-CALNAME:iCagenda
X-WR-CALDESC:Event Management Extension for Joomla!
X-WR-RELCALID:3E26604A-50F4-4449-8B3E-E4F4932D05B5
X-WR-TIMEZONE:Europe/Rome
BEGIN:VTIMEZONE
TZID:Europe/Rome
TZUNTIL:20271031T010000Z
BEGIN:STANDARD
TZNAME:CET
DTSTART:20251026T030000
TZOFFSETFROM:+0200
TZOFFSETTO:+0100
RDATE:20261025T030000
END:STANDARD
BEGIN:DAYLIGHT
TZNAME:CEST
DTSTART:20250330T020000
TZOFFSETFROM:+0100
TZOFFSETTO:+0200
RDATE:20260329T020000
RDATE:20270328T020000
END:DAYLIGHT
END:VTIMEZONE
BEGIN:VEVENT
UID:34363265-6232-4839-b636-343336383430
DTSTAMP:20260421T103346Z
CATEGORIES:OTLUG Partecipa
CLASS:PUBLIC
DESCRIPTION;ALTREP="CID:<FFFF__=0ABBE548DFE235B58f9e8a93d@coffeebean.com>":
 MODEL EXPO ITALIA - MEI BRICK ARENA BY CLV LUG&nbsp\;VERONA 7-8 MARZO 2026
DTSTART:20260307T092900Z
DTEND:20260308T182900Z
GEO:00;0
LOCATION:
ORGANIZER:
SEQUENCE:1
SUMMARY:MODEL EXPO ITALIA 2026 - MEI BRICK ARENA BY CLV LUG
TRANSP:OPAQUE
URL:https://www.orangeteamlug.it/eventi-partecipazioni/eventi-2026/model-ex
 po-italia-2026-mei-brick-arena-by-clv-lug?layout=vcal
END:VEVENT
END:VCALENDAR
